BEGIN:VCALENDAR
VERSION:2.0
PRODID:GlueUp
CALSCALE:GREGORIAN
BEGIN:VTIMEZONE
TZID:UTC
BEGIN:STANDARD
DTSTART:19700101T000000
TZOFFSETFROM:+0000
TZOFFSETTO:+0000
TZNAME:UTC
END:STANDARD
END:VTIMEZONE
BEGIN:VEVENT
TZ:+00
ORGANIZER;CN=Matthieu Bodin:MAILTO:china@startupweekend.org
UID:27153-1776604616@https://app.glueup.cn
DTSTAMP:20260419T131656Z
DTSTART:20200814T100000Z
DTEND:20200816T130000Z
SUMMARY:Startup Weekend V2
DESCRIPTION:Startup Weekend V2 by Startup Weekend China\n\nAug 14 - 16, 2020(GMT+8)\n\nFor more information, click here: https://app.glueup.cn/my/events/27153
LOCATION: - China
BEGIN:VALARM
TRIGGER:-PT48H
REPEAT:4
DURATION:PT30M
ACTION:DISPLAY
END:VALARM
END:VEVENT
END:VCALENDAR